BEGIN:VCALENDAR
VERSION:2.0
PRODID:-//Finley Beer - ECPv6.15.20//NONSGML v1.0//EN
CALSCALE:GREGORIAN
METHOD:PUBLISH
X-WR-CALNAME:Finley Beer
X-ORIGINAL-URL:https://www.finleybeer.com
X-WR-CALDESC:Events for Finley Beer
REFRESH-INTERVAL;VALUE=DURATION:PT1H
X-Robots-Tag:noindex
X-PUBLISHED-TTL:PT1H
BEGIN:VTIMEZONE
TZID:America/Denver
BEGIN:DAYLIGHT
TZOFFSETFROM:-0700
TZOFFSETTO:-0600
TZNAME:MDT
DTSTART:20210314T090000
END:DAYLIGHT
BEGIN:STANDARD
TZOFFSETFROM:-0600
TZOFFSETTO:-0700
TZNAME:MST
DTSTART:20211107T080000
END:STANDARD
BEGIN:DAYLIGHT
TZOFFSETFROM:-0700
TZOFFSETTO:-0600
TZNAME:MDT
DTSTART:20220313T090000
END:DAYLIGHT
BEGIN:STANDARD
TZOFFSETFROM:-0600
TZOFFSETTO:-0700
TZNAME:MST
DTSTART:20221106T080000
END:STANDARD
BEGIN:DAYLIGHT
TZOFFSETFROM:-0700
TZOFFSETTO:-0600
TZNAME:MDT
DTSTART:20230312T090000
END:DAYLIGHT
BEGIN:STANDARD
TZOFFSETFROM:-0600
TZOFFSETTO:-0700
TZNAME:MST
DTSTART:20231105T080000
END:STANDARD
END:VTIMEZONE
BEGIN:VEVENT
DTSTART;TZID=America/Denver:20220113T170000
DTEND;TZID=America/Denver:20220113T200000
DTSTAMP:20260422T211419
CREATED:20220113T200217Z
LAST-MODIFIED:20220113T200217Z
UID:10243-1642093200-1642104000@www.finleybeer.com
SUMMARY:Ska Brewing Tap Takeover
DESCRIPTION:Ska Brewing is taking over the taps at BZ’s Italian Kitchen! Head over today starting at 5pm to celebrate the impending end of the work week with a piping hot slice pizza and a cold beer.
URL:https://www.finleybeer.com/event/ska-brewing-tap-takeover/
LOCATION:BZ’s Italian Kitchen\, 7856 E Wrightstown Rd\, Tucson\, AZ\, 85715\, United States
ATTACH;FMTTYPE=image/jpeg:https://www.finleybeer.com/wp-content/uploads/2022/01/BZs_Ska.jpg
END:VEVENT
END:VCALENDAR