BEGIN:VCALENDAR
VERSION:2.0
PRODID:-//Finley Beer - ECPv6.15.20//NONSGML v1.0//EN
CALSCALE:GREGORIAN
METHOD:PUBLISH
X-ORIGINAL-URL:https://www.finleybeer.com
X-WR-CALDESC:Events for Finley Beer
REFRESH-INTERVAL;VALUE=DURATION:PT1H
X-Robots-Tag:noindex
X-PUBLISHED-TTL:PT1H
BEGIN:VTIMEZONE
TZID:America/Denver
BEGIN:DAYLIGHT
TZOFFSETFROM:-0700
TZOFFSETTO:-0600
TZNAME:MDT
DTSTART:20210314T090000
END:DAYLIGHT
BEGIN:STANDARD
TZOFFSETFROM:-0600
TZOFFSETTO:-0700
TZNAME:MST
DTSTART:20211107T080000
END:STANDARD
BEGIN:DAYLIGHT
TZOFFSETFROM:-0700
TZOFFSETTO:-0600
TZNAME:MDT
DTSTART:20220313T090000
END:DAYLIGHT
BEGIN:STANDARD
TZOFFSETFROM:-0600
TZOFFSETTO:-0700
TZNAME:MST
DTSTART:20221106T080000
END:STANDARD
BEGIN:DAYLIGHT
TZOFFSETFROM:-0700
TZOFFSETTO:-0600
TZNAME:MDT
DTSTART:20230312T090000
END:DAYLIGHT
BEGIN:STANDARD
TZOFFSETFROM:-0600
TZOFFSETTO:-0700
TZNAME:MST
DTSTART:20231105T080000
END:STANDARD
END:VTIMEZONE
BEGIN:VEVENT
DTSTART;TZID=America/Denver:20220210T150000
DTEND;TZID=America/Denver:20220210T180000
DTSTAMP:20260422T181822
CREATED:20220210T194649Z
LAST-MODIFIED:20220210T194649Z
UID:10336-1644505200-1644516000@www.finleybeer.com
SUMMARY:Topo Chico Ranch Water & Coors Pure Sampling
DESCRIPTION:Make your way out to Safeway at 12122 N Rancho Vistoso Blvd today from 3-6pm to snag a sample of Topo Chico Ranch Water and Coors Pure!
URL:https://www.finleybeer.com/event/topo-chico-ranch-water-coors-pure-sampling/
LOCATION:Safeway (Oro Valley)\, 12122 North Rancho Vistoso Blvd\, Oro Valley\, 85737\, United States
ATTACH;FMTTYPE=image/jpeg:https://www.finleybeer.com/wp-content/uploads/2022/02/Safeway_Topo-Pure.jpg
END:VEVENT
END:VCALENDAR