BEGIN:VCALENDAR
VERSION:2.0
PRODID:-//Finley Beer - ECPv6.15.20//NONSGML v1.0//EN
CALSCALE:GREGORIAN
METHOD:PUBLISH
X-ORIGINAL-URL:https://www.finleybeer.com
X-WR-CALDESC:Events for Finley Beer
REFRESH-INTERVAL;VALUE=DURATION:PT1H
X-Robots-Tag:noindex
X-PUBLISHED-TTL:PT1H
BEGIN:VTIMEZONE
TZID:America/Denver
BEGIN:DAYLIGHT
TZOFFSETFROM:-0700
TZOFFSETTO:-0600
TZNAME:MDT
DTSTART:20210314T090000
END:DAYLIGHT
BEGIN:STANDARD
TZOFFSETFROM:-0600
TZOFFSETTO:-0700
TZNAME:MST
DTSTART:20211107T080000
END:STANDARD
BEGIN:DAYLIGHT
TZOFFSETFROM:-0700
TZOFFSETTO:-0600
TZNAME:MDT
DTSTART:20220313T090000
END:DAYLIGHT
BEGIN:STANDARD
TZOFFSETFROM:-0600
TZOFFSETTO:-0700
TZNAME:MST
DTSTART:20221106T080000
END:STANDARD
BEGIN:DAYLIGHT
TZOFFSETFROM:-0700
TZOFFSETTO:-0600
TZNAME:MDT
DTSTART:20230312T090000
END:DAYLIGHT
BEGIN:STANDARD
TZOFFSETFROM:-0600
TZOFFSETTO:-0700
TZNAME:MST
DTSTART:20231105T080000
END:STANDARD
END:VTIMEZONE
BEGIN:VEVENT
DTSTART;TZID=America/Denver:20220220T120000
DTEND;TZID=America/Denver:20220220T200000
DTSTAMP:20260422T182458
CREATED:20220218T185240Z
LAST-MODIFIED:20220218T185240Z
UID:10342-1645358400-1645387200@www.finleybeer.com
SUMMARY:AZ Beer Week Bike Crawl
DESCRIPTION:Grab your buddies for “This Is Not A Race” Bikes & Beer Crawl between Pueblo Vida\, Westbound and Dragoon. This is self guided\, so drop by any of the 3 locations between 12p-8pm for the ride map and $1 off coupons for each stop (and a really sweet sticker for your water bottle)!
URL:https://www.finleybeer.com/event/az-beer-week-bike-crawl/
LOCATION:Dragoon Brewing\, 1859 W GRANT RD #111\, Tucson\, AZ\, 85745\, United States
ATTACH;FMTTYPE=image/jpeg:https://www.finleybeer.com/wp-content/uploads/2022/02/BW_Race.jpg
END:VEVENT
END:VCALENDAR