BEGIN:VCALENDAR
VERSION:2.0
PRODID:-//Finley Beer - ECPv6.15.20//NONSGML v1.0//EN
CALSCALE:GREGORIAN
METHOD:PUBLISH
X-WR-CALNAME:Finley Beer
X-ORIGINAL-URL:https://www.finleybeer.com
X-WR-CALDESC:Events for Finley Beer
REFRESH-INTERVAL;VALUE=DURATION:PT1H
X-Robots-Tag:noindex
X-PUBLISHED-TTL:PT1H
BEGIN:VTIMEZONE
TZID:America/Denver
BEGIN:DAYLIGHT
TZOFFSETFROM:-0700
TZOFFSETTO:-0600
TZNAME:MDT
DTSTART:20210314T090000
END:DAYLIGHT
BEGIN:STANDARD
TZOFFSETFROM:-0600
TZOFFSETTO:-0700
TZNAME:MST
DTSTART:20211107T080000
END:STANDARD
BEGIN:DAYLIGHT
TZOFFSETFROM:-0700
TZOFFSETTO:-0600
TZNAME:MDT
DTSTART:20220313T090000
END:DAYLIGHT
BEGIN:STANDARD
TZOFFSETFROM:-0600
TZOFFSETTO:-0700
TZNAME:MST
DTSTART:20221106T080000
END:STANDARD
BEGIN:DAYLIGHT
TZOFFSETFROM:-0700
TZOFFSETTO:-0600
TZNAME:MDT
DTSTART:20230312T090000
END:DAYLIGHT
BEGIN:STANDARD
TZOFFSETFROM:-0600
TZOFFSETTO:-0700
TZNAME:MST
DTSTART:20231105T080000
END:STANDARD
END:VTIMEZONE
BEGIN:VEVENT
DTSTART;TZID=America/Denver:20220226T173000
DTEND;TZID=America/Denver:20220226T183000
DTSTAMP:20260422T181616
CREATED:20220223T224134Z
LAST-MODIFIED:20220223T224134Z
UID:10354-1645896600-1645900200@www.finleybeer.com
SUMMARY:Hop Valley Sampling
DESCRIPTION:The Brew Crew is heading out to Buffalo Wild Wings on Oracle Rd. today! Be sure to swing by from 5:30-6:30pm for your chance to score some Hop Valley swag and a pint of Hopatizer IPA on the Brew Crew.
URL:https://www.finleybeer.com/event/hop-valley-sampling/
LOCATION:Buffalo Wild Wings (Oracle)\, 4329 N Oracle Rd #135\, Tucson\, AZ\, 85705\, United States
ATTACH;FMTTYPE=image/jpeg:https://www.finleybeer.com/wp-content/uploads/2021/11/BWW_Hopatizer1.jpg
END:VEVENT
END:VCALENDAR