BEGIN:VCALENDAR
VERSION:2.0
PRODID:-//Finley Beer - ECPv6.15.20//NONSGML v1.0//EN
CALSCALE:GREGORIAN
METHOD:PUBLISH
X-ORIGINAL-URL:https://www.finleybeer.com
X-WR-CALDESC:Events for Finley Beer
REFRESH-INTERVAL;VALUE=DURATION:PT1H
X-Robots-Tag:noindex
X-PUBLISHED-TTL:PT1H
BEGIN:VTIMEZONE
TZID:America/Denver
BEGIN:DAYLIGHT
TZOFFSETFROM:-0700
TZOFFSETTO:-0600
TZNAME:MDT
DTSTART:20210314T090000
END:DAYLIGHT
BEGIN:STANDARD
TZOFFSETFROM:-0600
TZOFFSETTO:-0700
TZNAME:MST
DTSTART:20211107T080000
END:STANDARD
BEGIN:DAYLIGHT
TZOFFSETFROM:-0700
TZOFFSETTO:-0600
TZNAME:MDT
DTSTART:20220313T090000
END:DAYLIGHT
BEGIN:STANDARD
TZOFFSETFROM:-0600
TZOFFSETTO:-0700
TZNAME:MST
DTSTART:20221106T080000
END:STANDARD
BEGIN:DAYLIGHT
TZOFFSETFROM:-0700
TZOFFSETTO:-0600
TZNAME:MDT
DTSTART:20230312T090000
END:DAYLIGHT
BEGIN:STANDARD
TZOFFSETFROM:-0600
TZOFFSETTO:-0700
TZNAME:MST
DTSTART:20231105T080000
END:STANDARD
END:VTIMEZONE
BEGIN:VEVENT
DTSTART;TZID=America/Denver:20220317T153000
DTEND;TZID=America/Denver:20220317T163000
DTSTAMP:20260422T163831
CREATED:20220316T194141Z
LAST-MODIFIED:20220316T194141Z
UID:10362-1647531000-1647534600@www.finleybeer.com
SUMMARY:St. Patrick's Day @ Rusty's
DESCRIPTION:There’s nothing more fitting than downing a Guinness on St. Patrick’s Day! Swing by Rusty’s today from 3:30-4:30pm for a pint and a chance to score some St. Patty’s swag.
URL:https://www.finleybeer.com/event/st-patricks-day-rustys/
LOCATION:Rusty’s\, 2075 W Grant Rd\, Tucson\, AZ\, 85745\, United States
ATTACH;FMTTYPE=image/jpeg:https://www.finleybeer.com/wp-content/uploads/2022/03/Rustys_Guinness.jpg
END:VEVENT
BEGIN:VEVENT
DTSTART;TZID=America/Denver:20220317T170000
DTEND;TZID=America/Denver:20220317T180000
DTSTAMP:20260422T163831
CREATED:20220316T194507Z
LAST-MODIFIED:20220316T194507Z
UID:10364-1647536400-1647540000@www.finleybeer.com
SUMMARY:St. Patrick's Day @ Murphy's
DESCRIPTION:Treat yourself to a round of Guinness this St. Patrick’s Day! You deserve it. Make your way out to Murphy’s Public House today from 5-6pm for a chance to score some St. Patty’s swag.
URL:https://www.finleybeer.com/event/st-patricks-day-murphys/
LOCATION:Murphy’s\, 140 S Kolb Rd\, Tucson\, AZ\, 85710\, United States
ATTACH;FMTTYPE=image/jpeg:https://www.finleybeer.com/wp-content/uploads/2022/03/Murphys_Guinness.jpg
END:VEVENT
END:VCALENDAR