BEGIN:VCALENDAR
VERSION:2.0
PRODID:-//Finley Beer - ECPv6.15.20//NONSGML v1.0//EN
CALSCALE:GREGORIAN
METHOD:PUBLISH
X-ORIGINAL-URL:https://www.finleybeer.com
X-WR-CALDESC:Events for Finley Beer
REFRESH-INTERVAL;VALUE=DURATION:PT1H
X-Robots-Tag:noindex
X-PUBLISHED-TTL:PT1H
BEGIN:VTIMEZONE
TZID:America/Phoenix
BEGIN:STANDARD
TZOFFSETFROM:-0700
TZOFFSETTO:-0700
TZNAME:MST
DTSTART:20230101T000000
END:STANDARD
END:VTIMEZONE
BEGIN:VEVENT
DTSTART;TZID=America/Phoenix:20240410T160000
DTEND;TZID=America/Phoenix:20240410T170000
DTSTAMP:20260419T104318
CREATED:20240401T204048Z
LAST-MODIFIED:20240401T204048Z
UID:11761-1712764800-1712768400@www.finleybeer.com
SUMMARY:Mikes Limonada Fresca Promo and Sampling
DESCRIPTION:
URL:https://www.finleybeer.com/event/mikes-limonada-fresca-promo-and-sampling-2/
LOCATION:Fry’s 17\, 4150 E 22nd St\, Tucson\, AZ\, 85711\, United States
ATTACH;FMTTYPE=image/jpeg:https://www.finleybeer.com/wp-content/uploads/2024/04/Mikes-Hard-Limonada-Fresca-2.jpg
END:VEVENT
END:VCALENDAR