BEGIN:VCALENDAR
VERSION:2.0
PRODID:-//Finley Beer - ECPv6.15.20//NONSGML v1.0//EN
CALSCALE:GREGORIAN
METHOD:PUBLISH
X-ORIGINAL-URL:https://www.finleybeer.com
X-WR-CALDESC:Events for Finley Beer
REFRESH-INTERVAL;VALUE=DURATION:PT1H
X-Robots-Tag:noindex
X-PUBLISHED-TTL:PT1H
BEGIN:VTIMEZONE
TZID:America/Phoenix
BEGIN:STANDARD
TZOFFSETFROM:-0700
TZOFFSETTO:-0700
TZNAME:MST
DTSTART:20230101T000000
END:STANDARD
END:VTIMEZONE
BEGIN:VEVENT
DTSTART;TZID=America/Phoenix:20240524T113000
DTEND;TZID=America/Phoenix:20240524T143000
DTSTAMP:20260419T090112
CREATED:20240501T193904Z
LAST-MODIFIED:20240501T193904Z
UID:11837-1716550200-1716561000@www.finleybeer.com
SUMMARY:White Claw Tequila Smash Promo and Sampling
DESCRIPTION:
URL:https://www.finleybeer.com/event/white-claw-tequila-smash-promo-and-sampling-9/
LOCATION:Fry’s 18\, 10661 N Oracle Rd\, Oro Valley\, AZ\, 85737\, United States
ATTACH;FMTTYPE=image/webp:https://www.finleybeer.com/wp-content/uploads/2024/05/WhiteClawTequila.webp
END:VEVENT
BEGIN:VEVENT
DTSTART;TZID=America/Phoenix:20240524T141500
DTEND;TZID=America/Phoenix:20240524T171500
DTSTAMP:20260419T090112
CREATED:20240425T181709Z
LAST-MODIFIED:20240425T181709Z
UID:11795-1716560100-1716570900@www.finleybeer.com
SUMMARY:Heineken Silver / XX Michelada Promo and Sampling
DESCRIPTION:
URL:https://www.finleybeer.com/event/heineken-silver-xx-michelada-promo-and-sampling-9/
LOCATION:Food City 171\, 2000 E Irvington Rd\, Tucson\, AZ\, 85714\, United States
ATTACH;FMTTYPE=image/png:https://www.finleybeer.com/wp-content/uploads/2023/03/Dos-Equis-Michelada.png
END:VEVENT
BEGIN:VEVENT
DTSTART;TZID=America/Phoenix:20240524T160000
DTEND;TZID=America/Phoenix:20240524T190000
DTSTAMP:20260419T090112
CREATED:20240321T221316Z
LAST-MODIFIED:20240520T182746Z
UID:11743-1716566400-1716577200@www.finleybeer.com
SUMMARY:Dos XX Lime and Salt Promo and Sampling
DESCRIPTION:
URL:https://www.finleybeer.com/event/dos-xx-lime-and-salt-promo-and-sampling-2/
LOCATION:Total Wine (Broadway)\, 5870 E Broadway Blvd Suite 448\, Tucson\, AZ\, 85711\, United States
ATTACH;FMTTYPE=image/png:https://www.finleybeer.com/wp-content/uploads/2020/10/Dos-Equis-Lime-and-Salt.png
END:VEVENT
BEGIN:VEVENT
DTSTART;TZID=America/Phoenix:20240524T160000
DTEND;TZID=America/Phoenix:20240524T190000
DTSTAMP:20260419T090112
CREATED:20240425T183444Z
LAST-MODIFIED:20240425T183444Z
UID:11803-1716566400-1716577200@www.finleybeer.com
SUMMARY:Heineken Silver Promo and Sampling
DESCRIPTION:
URL:https://www.finleybeer.com/event/heineken-silver-promo-and-sampling-19/
LOCATION:Basha’s 100\, 3275 N Swan Rd\, Tucson\, AZ\, 85712\, United States
ATTACH;FMTTYPE=image/jpeg:https://www.finleybeer.com/wp-content/uploads/2023/02/Heineken-Silver.jpg
END:VEVENT
BEGIN:VEVENT
DTSTART;TZID=America/Phoenix:20240524T160000
DTEND;TZID=America/Phoenix:20240524T190000
DTSTAMP:20260419T090112
CREATED:20240501T193815Z
LAST-MODIFIED:20240501T193815Z
UID:11836-1716566400-1716577200@www.finleybeer.com
SUMMARY:White Claw Tequila Smash Promo and Sampling
DESCRIPTION:
URL:https://www.finleybeer.com/event/white-claw-tequila-smash-promo-and-sampling-8/
LOCATION:Fry’s 689\, 12100 N Thornydale Rd\, Marana\, AZ\, 85658\, United States
ATTACH;FMTTYPE=image/webp:https://www.finleybeer.com/wp-content/uploads/2024/05/WhiteClawTequila.webp
END:VEVENT
BEGIN:VEVENT
DTSTART;TZID=America/Phoenix:20240524T173000
DTEND;TZID=America/Phoenix:20240524T193000
DTSTAMP:20260419T090112
CREATED:20240115T174430Z
LAST-MODIFIED:20240115T174430Z
UID:11677-1716571800-1716579000@www.finleybeer.com
SUMMARY:Dos XX Ambar Promo & Sampling
DESCRIPTION:
URL:https://www.finleybeer.com/event/dos-xx-ambar-promo-sampling-5/
LOCATION:Desert Diamond Casino (Nogales Highway)
ATTACH;FMTTYPE=image/jpeg:https://www.finleybeer.com/wp-content/uploads/2019/10/DosEquis-Ambar.jpg
END:VEVENT
END:VCALENDAR