BEGIN:VCALENDAR
VERSION:2.0
PRODID:-//Finley Beer - ECPv6.15.20//NONSGML v1.0//EN
CALSCALE:GREGORIAN
METHOD:PUBLISH
X-WR-CALNAME:Finley Beer
X-ORIGINAL-URL:https://www.finleybeer.com
X-WR-CALDESC:Events for Finley Beer
REFRESH-INTERVAL;VALUE=DURATION:PT1H
X-Robots-Tag:noindex
X-PUBLISHED-TTL:PT1H
BEGIN:VTIMEZONE
TZID:America/Phoenix
BEGIN:STANDARD
TZOFFSETFROM:-0700
TZOFFSETTO:-0700
TZNAME:MST
DTSTART:20230101T000000
END:STANDARD
END:VTIMEZONE
BEGIN:VEVENT
DTSTART;VALUE=DATE:20240614
DTEND;VALUE=DATE:20240615
DTSTAMP:20260423T070116
CREATED:20240612T184709Z
LAST-MODIFIED:20240612T184709Z
UID:12074-1718323200-1718409599@www.finleybeer.com
SUMMARY:White Claw Surge Variety Pack 2 Promo and Sampling
DESCRIPTION:
URL:https://www.finleybeer.com/event/white-claw-surge-variety-pack-2-promo-and-sampling/
LOCATION:Whole Foods Speedway\, 3360 E Speedway Blvd\, Tucson\, 85716\, United States
ATTACH;FMTTYPE=image/jpeg:https://www.finleybeer.com/wp-content/uploads/2024/01/White-Claw-Surge-Variety-2.jpg
END:VEVENT
BEGIN:VEVENT
DTSTART;TZID=America/Phoenix:20240614T160000
DTEND;TZID=America/Phoenix:20240614T170000
DTSTAMP:20260423T070116
CREATED:20240321T221019Z
LAST-MODIFIED:20240425T180400Z
UID:11741-1718380800-1718384400@www.finleybeer.com
SUMMARY:Heineken Silver Promo and Sampling
DESCRIPTION:
URL:https://www.finleybeer.com/event/heineken-silver-promo-and-sampling-14/
LOCATION:Total Wine (Broadway)\, 5870 E Broadway Blvd Suite 448\, Tucson\, AZ\, 85711\, United States
ATTACH;FMTTYPE=image/png:https://www.finleybeer.com/wp-content/uploads/2023/04/Heineken-Silver.png
END:VEVENT
END:VCALENDAR