BEGIN:VCALENDAR
VERSION:2.0
PRODID:-//Finley Beer - ECPv6.15.20//NONSGML v1.0//EN
CALSCALE:GREGORIAN
METHOD:PUBLISH
X-WR-CALNAME:Finley Beer
X-ORIGINAL-URL:https://www.finleybeer.com
X-WR-CALDESC:Events for Finley Beer
REFRESH-INTERVAL;VALUE=DURATION:PT1H
X-Robots-Tag:noindex
X-PUBLISHED-TTL:PT1H
BEGIN:VTIMEZONE
TZID:America/Phoenix
BEGIN:STANDARD
TZOFFSETFROM:-0700
TZOFFSETTO:-0700
TZNAME:MST
DTSTART:20230101T000000
END:STANDARD
END:VTIMEZONE
BEGIN:VEVENT
DTSTART;VALUE=DATE:20240616
DTEND;VALUE=DATE:20240617
DTSTAMP:20260423T081632
CREATED:20240612T185120Z
LAST-MODIFIED:20240612T185120Z
UID:12076-1718496000-1718582399@www.finleybeer.com
SUMMARY:White Claw Surge Variety Pack 2 Promo and Sampling
DESCRIPTION:
URL:https://www.finleybeer.com/event/white-claw-surge-variety-pack-2-promo-and-sampling-3/
LOCATION:Whole Foods Oracle\, 7133 N Oracle Rd\, Tucson\, AZ\, 85704\, United States
ATTACH;FMTTYPE=image/jpeg:https://www.finleybeer.com/wp-content/uploads/2024/01/White-Claw-Surge-Variety-2.jpg
END:VEVENT
BEGIN:VEVENT
DTSTART;TZID=America/Phoenix:20240616T100000
DTEND;TZID=America/Phoenix:20240616T130000
DTSTAMP:20260423T081632
CREATED:20240425T181948Z
LAST-MODIFIED:20240425T181948Z
UID:11797-1718532000-1718542800@www.finleybeer.com
SUMMARY:Heineken Silver / XX Michelada Promo and Sampling
DESCRIPTION:
URL:https://www.finleybeer.com/event/heineken-silver-xx-michelada-promo-and-sampling-11/
LOCATION:Food City 139 (Ajo)\, 1740 W Ajo Way\, Tucson\, AZ\, 85713\, United States
ATTACH;FMTTYPE=image/png:https://www.finleybeer.com/wp-content/uploads/2023/03/Dos-Equis-Michelada.png
END:VEVENT
BEGIN:VEVENT
DTSTART;TZID=America/Phoenix:20240616T131500
DTEND;TZID=America/Phoenix:20240616T161500
DTSTAMP:20260423T081632
CREATED:20240425T182141Z
LAST-MODIFIED:20240425T182849Z
UID:11798-1718543700-1718554500@www.finleybeer.com
SUMMARY:Heineken Silver / XX Michelada Promo and Sampling
DESCRIPTION:
URL:https://www.finleybeer.com/event/heineken-silver-xx-michelada-promo-and-sampling-12/
LOCATION:Food City 156 (Irvington)\, 1221 W Irvington Rd\, Tucson\, AZ\, 85746\, United States
ATTACH;FMTTYPE=image/png:https://www.finleybeer.com/wp-content/uploads/2023/03/Dos-Equis-Michelada.png
END:VEVENT
END:VCALENDAR