BEGIN:VCALENDAR
VERSION:2.0
PRODID:-//Finley Beer - ECPv6.15.20//NONSGML v1.0//EN
CALSCALE:GREGORIAN
METHOD:PUBLISH
X-WR-CALNAME:Finley Beer
X-ORIGINAL-URL:https://www.finleybeer.com
X-WR-CALDESC:Events for Finley Beer
REFRESH-INTERVAL;VALUE=DURATION:PT1H
X-Robots-Tag:noindex
X-PUBLISHED-TTL:PT1H
BEGIN:VTIMEZONE
TZID:America/Phoenix
BEGIN:STANDARD
TZOFFSETFROM:-0700
TZOFFSETTO:-0700
TZNAME:MST
DTSTART:20230101T000000
END:STANDARD
END:VTIMEZONE
BEGIN:VEVENT
DTSTART;TZID=America/Phoenix:20240807T160000
DTEND;TZID=America/Phoenix:20240807T190000
DTSTAMP:20260422T180451
CREATED:20240805T222151Z
LAST-MODIFIED:20240805T222338Z
UID:12136-1723046400-1723057200@www.finleybeer.com
SUMMARY:Mikes Limonada Fresca Sampling
DESCRIPTION:
URL:https://www.finleybeer.com/event/mikes-limonada-fresca-sampling/
LOCATION:Fry’s 90\, 8080 S Houghton Rd\, Tucson\, AZ\, 85747\, United States
ATTACH;FMTTYPE=image/png:https://www.finleybeer.com/wp-content/uploads/2024/05/Mikes-Limonada-Fresca.png
END:VEVENT
END:VCALENDAR