BEGIN:VCALENDAR
VERSION:2.0
PRODID:-//Finley Beer - ECPv6.15.20//NONSGML v1.0//EN
CALSCALE:GREGORIAN
METHOD:PUBLISH
X-WR-CALNAME:Finley Beer
X-ORIGINAL-URL:https://www.finleybeer.com
X-WR-CALDESC:Events for Finley Beer
REFRESH-INTERVAL;VALUE=DURATION:PT1H
X-Robots-Tag:noindex
X-PUBLISHED-TTL:PT1H
BEGIN:VTIMEZONE
TZID:America/Phoenix
BEGIN:STANDARD
TZOFFSETFROM:-0700
TZOFFSETTO:-0700
TZNAME:MST
DTSTART:20230101T000000
END:STANDARD
END:VTIMEZONE
BEGIN:VEVENT
DTSTART;TZID=America/Phoenix:20240816T160000
DTEND;TZID=America/Phoenix:20240816T190000
DTSTAMP:20260422T054020
CREATED:20240805T222308Z
LAST-MODIFIED:20240805T222308Z
UID:12137-1723824000-1723834800@www.finleybeer.com
SUMMARY:Mikes Limonada Fresca Sampling
DESCRIPTION:
URL:https://www.finleybeer.com/event/mikes-limonada-fresca-sampling-2/
LOCATION:Fry’s 138\, 4036 N 1st Ave\, Tucson\, Tucson\, Arizona\, 85719\, United States
ATTACH;FMTTYPE=image/png:https://www.finleybeer.com/wp-content/uploads/2024/05/Mikes-Limonada-Fresca.png
END:VEVENT
BEGIN:VEVENT
DTSTART;TZID=America/Phoenix:20240816T173000
DTEND;TZID=America/Phoenix:20240816T193000
DTSTAMP:20260422T054020
CREATED:20240805T223051Z
LAST-MODIFIED:20240805T223051Z
UID:12142-1723829400-1723836600@www.finleybeer.com
SUMMARY:Dos XX Lager Sampling
DESCRIPTION:
URL:https://www.finleybeer.com/event/dos-xx-lager-sampling/
LOCATION:Desert Diamond Casino (Nogales Highway)
ATTACH;FMTTYPE=image/jpeg:https://www.finleybeer.com/wp-content/uploads/2019/10/DosEquis-Lager.jpg
END:VEVENT
END:VCALENDAR