BEGIN:VCALENDAR
VERSION:2.0
PRODID:-//Finley Beer - ECPv6.15.20//NONSGML v1.0//EN
CALSCALE:GREGORIAN
METHOD:PUBLISH
X-WR-CALNAME:Finley Beer
X-ORIGINAL-URL:https://www.finleybeer.com
X-WR-CALDESC:Events for Finley Beer
REFRESH-INTERVAL;VALUE=DURATION:PT1H
X-Robots-Tag:noindex
X-PUBLISHED-TTL:PT1H
BEGIN:VTIMEZONE
TZID:America/Denver
BEGIN:DAYLIGHT
TZOFFSETFROM:-0700
TZOFFSETTO:-0600
TZNAME:MDT
DTSTART:20210314T090000
END:DAYLIGHT
BEGIN:STANDARD
TZOFFSETFROM:-0600
TZOFFSETTO:-0700
TZNAME:MST
DTSTART:20211107T080000
END:STANDARD
BEGIN:DAYLIGHT
TZOFFSETFROM:-0700
TZOFFSETTO:-0600
TZNAME:MDT
DTSTART:20220313T090000
END:DAYLIGHT
BEGIN:STANDARD
TZOFFSETFROM:-0600
TZOFFSETTO:-0700
TZNAME:MST
DTSTART:20221106T080000
END:STANDARD
BEGIN:DAYLIGHT
TZOFFSETFROM:-0700
TZOFFSETTO:-0600
TZNAME:MDT
DTSTART:20230312T090000
END:DAYLIGHT
BEGIN:STANDARD
TZOFFSETFROM:-0600
TZOFFSETTO:-0700
TZNAME:MST
DTSTART:20231105T080000
END:STANDARD
END:VTIMEZONE
BEGIN:VEVENT
DTSTART;TZID=America/Denver:20220402T210000
DTEND;TZID=America/Denver:20220402T230000
DTSTAMP:20260422T083128
CREATED:20220401T223043Z
LAST-MODIFIED:20220401T223043Z
UID:10424-1648933200-1648940400@www.finleybeer.com
SUMMARY:The Neighborhood Downtown
DESCRIPTION:Here’s your chance to score a pair of tickets to the J Balvin concert on 04/22! Meet us out at The Neighborhood‘s downtown location tonight from 9-11pm for your chance to win. You might even score a round of Miller Lite for you and your friends if you’re lucky.
URL:https://www.finleybeer.com/event/the-neighborhood-downtown/
LOCATION:The Neighborhood Downtown\, 61 E Congress St\, Tucson\, AZ\, 85701\, United States
ATTACH;FMTTYPE=image/jpeg:https://www.finleybeer.com/wp-content/uploads/2022/04/Front.jpg
END:VEVENT
BEGIN:VEVENT
DTSTART;TZID=America/Denver:20220404T180000
DTEND;TZID=America/Denver:20220404T200000
DTSTAMP:20260422T083128
CREATED:20220404T222616Z
LAST-MODIFIED:20220404T222616Z
UID:10438-1649095200-1649102400@www.finleybeer.com
SUMMARY:Casino Del Sol
DESCRIPTION:Meet up with us at Casino Del Sol to watch the Tar Heels take on the Jayhawks tonight! We’ll be around from 6-8pm handing out Corona and Modelo gear. Come find us at SolSports!
URL:https://www.finleybeer.com/event/casino-del-sol-6/
LOCATION:Casino Del Sol
ATTACH;FMTTYPE=image/jpeg:https://www.finleybeer.com/wp-content/uploads/2022/04/Constellation_CDS.jpg
END:VEVENT
BEGIN:VEVENT
DTSTART;TZID=America/Denver:20220429T170000
DTEND;TZID=America/Denver:20220429T190000
DTSTAMP:20260422T083128
CREATED:20220428T215119Z
LAST-MODIFIED:20220428T215221Z
UID:10465-1651251600-1651258800@www.finleybeer.com
SUMMARY:New Belgium 1985 IPA @ Putney's
DESCRIPTION:New Belgium’s 1985 IPA is the beer of the month out at Putney’s! Swing by today from 5-7pm for a chance to score some New Belgium beer gear. Grab a cold pint and let 1985 take you back to the future of hazy IPAs. Buckle up.
URL:https://www.finleybeer.com/event/new-belgium-1985-ipa-putneys/
LOCATION:Putney’s\, 6090 N Oracle Rd\, Tucson\, AZ\, 85704\, United States
ATTACH;FMTTYPE=image/jpeg:https://www.finleybeer.com/wp-content/uploads/2022/04/Putneys_1985.jpg
END:VEVENT
BEGIN:VEVENT
DTSTART;TZID=America/Denver:20220430T120000
DTEND;TZID=America/Denver:20220430T220000
DTSTAMP:20260422T083128
CREATED:20220428T214537Z
LAST-MODIFIED:20220428T215252Z
UID:10463-1651320000-1651356000@www.finleybeer.com
SUMMARY:Dragoon's 10 Year Anniversary
DESCRIPTION:Raise a glass and cheers to 10 years! Head out to Dragoon Brewing Co. today to help celebrate their 10 year anniversary with beer\, music\, food\, and more.
URL:https://www.finleybeer.com/event/dragoons-10-year-anniversary/
LOCATION:Dragoon Brewing\, 1859 W GRANT RD #111\, Tucson\, AZ\, 85745\, United States
ATTACH;FMTTYPE=image/png:https://www.finleybeer.com/wp-content/uploads/2022/04/Dragoon_Anniv.png
END:VEVENT
END:VCALENDAR